BEGIN:VCALENDAR
VERSION:2.0
PRODID:-// - ECPv6.15.20//NONSGML v1.0//EN
CALSCALE:GREGORIAN
METHOD:PUBLISH
X-ORIGINAL-URL:https://hundratassar.se
X-WR-CALDESC:Händelser för 
REFRESH-INTERVAL;VALUE=DURATION:PT1H
X-Robots-Tag:noindex
X-PUBLISHED-TTL:PT1H
BEGIN:VTIMEZONE
TZID:Europe/Stockholm
BEGIN:DAYLIGHT
TZOFFSETFROM:+0100
TZOFFSETTO:+0200
TZNAME:CEST
DTSTART:20250330T010000
END:DAYLIGHT
BEGIN:STANDARD
TZOFFSETFROM:+0200
TZOFFSETTO:+0100
TZNAME:CET
DTSTART:20251026T010000
END:STANDARD
BEGIN:DAYLIGHT
TZOFFSETFROM:+0100
TZOFFSETTO:+0200
TZNAME:CEST
DTSTART:20260329T010000
END:DAYLIGHT
BEGIN:STANDARD
TZOFFSETFROM:+0200
TZOFFSETTO:+0100
TZNAME:CET
DTSTART:20261025T010000
END:STANDARD
BEGIN:DAYLIGHT
TZOFFSETFROM:+0100
TZOFFSETTO:+0200
TZNAME:CEST
DTSTART:20270328T010000
END:DAYLIGHT
BEGIN:STANDARD
TZOFFSETFROM:+0200
TZOFFSETTO:+0100
TZNAME:CET
DTSTART:20271031T010000
END:STANDARD
END:VTIMEZONE
BEGIN:VTIMEZONE
TZID:Europe/Paris
BEGIN:DAYLIGHT
TZOFFSETFROM:+0100
TZOFFSETTO:+0200
TZNAME:CEST
DTSTART:20240331T010000
END:DAYLIGHT
BEGIN:STANDARD
TZOFFSETFROM:+0200
TZOFFSETTO:+0100
TZNAME:CET
DTSTART:20241027T010000
END:STANDARD
BEGIN:DAYLIGHT
TZOFFSETFROM:+0100
TZOFFSETTO:+0200
TZNAME:CEST
DTSTART:20250330T010000
END:DAYLIGHT
BEGIN:STANDARD
TZOFFSETFROM:+0200
TZOFFSETTO:+0100
TZNAME:CET
DTSTART:20251026T010000
END:STANDARD
BEGIN:DAYLIGHT
TZOFFSETFROM:+0100
TZOFFSETTO:+0200
TZNAME:CEST
DTSTART:20260329T010000
END:DAYLIGHT
BEGIN:STANDARD
TZOFFSETFROM:+0200
TZOFFSETTO:+0100
TZNAME:CET
DTSTART:20261025T010000
END:STANDARD
END:VTIMEZONE
BEGIN:VEVENT
DTSTART;TZID=Europe/Stockholm:20260102T080000
DTEND;TZID=Europe/Stockholm:20260102T170000
DTSTAMP:20260421T200443
CREATED:20251230T151421Z
LAST-MODIFIED:20251230T151626Z
UID:1711-1767340800-1767373200@hundratassar.se
SUMMARY:Fredag 2 januari 2026
DESCRIPTION:Fredag 2 januari kommer vi att förstärka värmen i hallen med ytterligare värmepumpar. Det innebär att det INTE går att boka tid mellan 08-17 den dagen. Blir vi klara tidigare så släpps tider på\, så håll utkik. \nPå det sättet kommer vi förhoppningsvis att klara att hålla cirka 15° även under de kallaste delarna av vintern. \nVi kommer även att sätta upp ytterbelysning vid ingången. \nPassar också på att önska alla kunder – nya som gamla en god fortsättning och ett riktigt Gott Nytt År\, hoppas 2026 blir ännu bättre än det gamla.
URL:https://hundratassar.se/event/fredag-2-januari-2026/
END:VEVENT
BEGIN:VEVENT
DTSTART;TZID=Europe/Paris:20251004T110000
DTEND;TZID=Europe/Paris:20251004T150000
DTSTAMP:20260421T200443
CREATED:20250628T134036Z
LAST-MODIFIED:20250917T142140Z
UID:350-1759575600-1759590000@hundratassar.se
SUMMARY:Öppning av Hundra Tassars hundhall i Högsta
DESCRIPTION:Nu öppnar vi äntligen upp vår nya hundhall…. \nVi klipper bandet till Hundra Tassars Hundhall 11:30 och sedan håller vi öppet hus fram till 16:00. \nFrån 18:00 kommer Du att kunna boka tider i hallen. \nPå programmet står presentation av hallen och vilka faciliteter som hallen erbjuder. Vi kommer också visa upp olika hundsporter med jämna mellanrum. \nInstruktörer för de olika kurserna kommer att vara på plats och presentera sig och sitt kursutbud. \nSjälvklart kommer Du att få testa på själv med din hund det du tycker verkar kul och intressant. \nVarmt välkomna till Uppsalas nyaste hundhall! \nHundra Tassar Hundhall
URL:https://hundratassar.se/event/smygoppning-av-hundra-tassars-hundhall-i-hogsta/
CATEGORIES:Event för alla
ORGANIZER;CN="Hundra Tassar":MAILTO:events@hundratassar.se
END:VEVENT
BEGIN:VEVENT
DTSTART;VALUE=DATE:20251004
DTEND;VALUE=DATE:20251005
DTSTAMP:20260421T200443
CREATED:20250528T150321Z
LAST-MODIFIED:20250917T203359Z
UID:356-1759536000-1759622399@hundratassar.se
SUMMARY:Bokningen för hallen öppnar 4 oktober
DESCRIPTION:Förhoppningen är att bokningen ska vara öppen från och med 4 oktober…vi återkommer med mer information ju närmare öppning vi kommer.
URL:https://hundratassar.se/event/bokningen-oppen/
CATEGORIES:Event för alla
END:VEVENT
END:VCALENDAR